BEGIN:VCALENDAR
VERSION:2.0
PRODID:-//Forte Santa Tecla - ECPv6.15.20//NONSGML v1.0//EN
CALSCALE:GREGORIAN
METHOD:PUBLISH
X-ORIGINAL-URL:https://fortesantatecla.cultura.gov.it
X-WR-CALDESC:Eventi per Forte Santa Tecla
REFRESH-INTERVAL;VALUE=DURATION:PT1H
X-Robots-Tag:noindex
X-PUBLISHED-TTL:PT1H
BEGIN:VTIMEZONE
TZID:Europe/Rome
BEGIN:DAYLIGHT
TZOFFSETFROM:+0100
TZOFFSETTO:+0200
TZNAME:CEST
DTSTART:20250330T010000
END:DAYLIGHT
BEGIN:STANDARD
TZOFFSETFROM:+0200
TZOFFSETTO:+0100
TZNAME:CET
DTSTART:20251026T010000
END:STANDARD
BEGIN:DAYLIGHT
TZOFFSETFROM:+0100
TZOFFSETTO:+0200
TZNAME:CEST
DTSTART:20260329T010000
END:DAYLIGHT
BEGIN:STANDARD
TZOFFSETFROM:+0200
TZOFFSETTO:+0100
TZNAME:CET
DTSTART:20261025T010000
END:STANDARD
BEGIN:DAYLIGHT
TZOFFSETFROM:+0100
TZOFFSETTO:+0200
TZNAME:CEST
DTSTART:20270328T010000
END:DAYLIGHT
BEGIN:STANDARD
TZOFFSETFROM:+0200
TZOFFSETTO:+0100
TZNAME:CET
DTSTART:20271031T010000
END:STANDARD
END:VTIMEZONE
BEGIN:VEVENT
DTSTART;TZID=Europe/Rome:20260123T150000
DTEND;TZID=Europe/Rome:20260123T190000
DTSTAMP:20260423T115428
CREATED:20251126T102438Z
LAST-MODIFIED:20251201T102259Z
UID:9263-1769180400-1769194800@fortesantatecla.cultura.gov.it
SUMMARY:Il (Di)segno dell'architetto-Convegno
DESCRIPTION:IL (DI)SEGNO DELL’ARCHITETTO\nArchitettura\, città e mare \nForte Santa Tecla – Sanremo \nCONVEGNO 23 GENNAIO 2026 \nIl convegno si svolgerà in un’unica giornata nel pomeriggio e prevede il coinvolgimento di ospiti di alto profilo internazionale sia in presenza che online\, sul tema della rappresentazione della città contemporanea cercando di analizzare quali possibili strade e direzioni ci riserva il futuro \nProgramma:\nORE 15:00\nSaluti Direttore Forte Santa Tecla Arch. Alberto Parodi\nEmmanuele Lo Giudice e Antonio Morlacchi:\npresentazione del progetto IL (DI)SEGNO DELL’ARCHITETTO: ARCHITETTURA\, CITTÀ E MARE \nORE 15:15 – 18:00\nConvegno\, dibattito e tavola rotonda con i relatori\nModerano: Emmanuele Lo Giudice\, Antonio Morlacchi \nBrunetto De Batte – Architetto\, redattore di Antione Leto\, docente di Progettazione Architettonica dal 1982 al 2012 presso la Facoltà di Architettura di Genova – Diseano d’architettura/ prospettive & teorie \nFranco Purini – Architetto\, Professore Emerito dell’Università Sapienza di Roma – Il disegno futuro \nMassimo Pica Ciamarra – Architetto\, Professore e vicepresidente della Fondazione Italiana di Bioarchitettura – Segni per attivare memorie e ricerche \nOrazio Carpenzano – Architetto\, Professore presso la Università di Architettura la Sapienza di Roma – Ironica durezza \nGiampiero Mele – Architetto\, docente presso eCampus University – Le città di nuova fondazione come modello per villaggi da predisporre in caso di eventi eccezionali \nMichela Scaglione e Giulia Pellegri – Architette e Professoresse presso l’Università degli Studi di Genova – Immaginare il futuro attraverso il disegno: tecniche tradizionali e nuovi sistemi\ninfografici \nGianluca Peluffo – Architetto\, Professore presso la facoltà di Architettura KORE di Enna – Dialetto e Lingua. Architetture di Peluffo&Partners \nFranco Raggi – Architetto e designer – La mano che pensa \nAttribuzione 3 crediti formativi per gli architetti\nNumero massimo partecipanti:50 \nIscrizioni\ndal 07 al 20 Gennaio 2026\narchitettimperia. it\nTelefono: 0183 291235 \nIngresso gratuito\nfino a esaurimento posti
URL:https://fortesantatecla.cultura.gov.it/event/il-disegno-dellarchitetto-convegno/
CATEGORIES:Incontro
ATTACH;FMTTYPE=image/png:https://fortesantatecla.cultura.gov.it/wp-content/uploads/2025/11/il-disegn-odellarchitetto.png
END:VEVENT
END:VCALENDAR