BEGIN:VCALENDAR
VERSION:2.0
PRODID:-//Forte Santa Tecla - ECPv6.15.20//NONSGML v1.0//EN
CALSCALE:GREGORIAN
METHOD:PUBLISH
X-WR-CALNAME:Forte Santa Tecla
X-ORIGINAL-URL:https://fortesantatecla.cultura.gov.it
X-WR-CALDESC:Eventi per Forte Santa Tecla
REFRESH-INTERVAL;VALUE=DURATION:PT1H
X-Robots-Tag:noindex
X-PUBLISHED-TTL:PT1H
BEGIN:VTIMEZONE
TZID:Europe/Rome
BEGIN:DAYLIGHT
TZOFFSETFROM:+0100
TZOFFSETTO:+0200
TZNAME:CEST
DTSTART:20220327T010000
END:DAYLIGHT
BEGIN:STANDARD
TZOFFSETFROM:+0200
TZOFFSETTO:+0100
TZNAME:CET
DTSTART:20221030T010000
END:STANDARD
BEGIN:DAYLIGHT
TZOFFSETFROM:+0100
TZOFFSETTO:+0200
TZNAME:CEST
DTSTART:20230326T010000
END:DAYLIGHT
BEGIN:STANDARD
TZOFFSETFROM:+0200
TZOFFSETTO:+0100
TZNAME:CET
DTSTART:20231029T010000
END:STANDARD
BEGIN:DAYLIGHT
TZOFFSETFROM:+0100
TZOFFSETTO:+0200
TZNAME:CEST
DTSTART:20240331T010000
END:DAYLIGHT
BEGIN:STANDARD
TZOFFSETFROM:+0200
TZOFFSETTO:+0100
TZNAME:CET
DTSTART:20241027T010000
END:STANDARD
END:VTIMEZONE
BEGIN:VEVENT
DTSTART;TZID=Europe/Rome:20230525T100000
DTEND;TZID=Europe/Rome:20230527T180000
DTSTAMP:20260419T183131
CREATED:20230523T105354Z
LAST-MODIFIED:20230523T105354Z
UID:7972-1685008800-1685210400@fortesantatecla.cultura.gov.it
SUMMARY:PIGNA @MARE
DESCRIPTION:L’ISTITUTO COMPRENSIVO “SANREMO CENTRO LEVANTE”\nPRESENTA\n“PIGNA @MARE”\nDAL 25 MAGGIO AL 27 MAGGIO\nDalle ore 10.00 – 13.00\n15.00 – 18.00\n– Esibizione Musicale\n– Coro\n– Recitazione\n– Conferenza Su “Italo Calvino”\n– Workshop Di Robotica Educativa\n– Street Dance\n– Esposizione Lavori\nProgramma completo su http://www.icsanremocentrolevante.edu.it
URL:https://fortesantatecla.cultura.gov.it/event/pigna-mare-istituto-comprensivo-sanremo/
LOCATION:Forte Santa Tecla\, Giardini Vitt. Veneto\, 34\,\, Sanremo\, IM\, 18038\, Italia
CATEGORIES:Laboratorio bambini,Mostra
ATTACH;FMTTYPE=image/jpeg:https://fortesantatecla.cultura.gov.it/wp-content/uploads/2023/05/2023-05-25-pignamare.jpg
END:VEVENT
BEGIN:VEVENT
DTSTART;TZID=Europe/Rome:20230525T170000
DTEND;TZID=Europe/Rome:20230525T183000
DTSTAMP:20260419T183131
CREATED:20230523T105617Z
LAST-MODIFIED:20230523T105617Z
UID:7975-1685034000-1685039400@fortesantatecla.cultura.gov.it
SUMMARY:BiblioTecla - Riccardo Landini
DESCRIPTION:Giovedì 25 Maggio dalle ore 17 appuntamento con “BiblioTecla\, Libri al Forte” ciclo di eventi letterari organizzati in collaborazione con la libreria Ubik Sanremo Libri .\nL’incontro è con l’autore Riccardo Landini\nAstore Rossi lavora come restauratore di mobili antichi in una piccola città di provincia. Uomo schivo\, solitario e amareggiato dai ricordi del passato\, coltiva soltanto i pochi legami indispensabili al suo lavoro. L’unica persona con cui ha allacciato un rapporto è Luisa\, un’anziana vicina di casa. Quando lei muore\, lasciandogli una misteriosa chiave e strappandogli la promessa di rimediare al male passato\, Astore si trova coinvolto\, suo malgrado\, nelle oscure vicende che riguardano la famiglia Spada\, cui Luisa apparteneva. Ci sono antichi e inimmaginabili segreti custoditi dalle stanze di una villa immersa nei boschi dell’Appennino bolognese. E c’è qualcuno\, spietato\, che non vuole assolutamente che vengano scoperti. La posta in gioco per arrivare alla verità e mantenere la promessa fatta a Luisa rischia di essere molto alta…\nINGRESSO GRATUITO\nGli appuntamenti con “BiblioTecla\, Libri al Forte” continueranno per tutta la stagione di apertura del Forte.\nContinuate a seguirci per scoprire gli eventi in programma.
URL:https://fortesantatecla.cultura.gov.it/event/bibliotecla-riccardo-landini/
LOCATION:Forte Santa Tecla\, Giardini Vitt. Veneto\, 34\,\, Sanremo\, IM\, 18038\, Italia
CATEGORIES:Incontro
ATTACH;FMTTYPE=image/jpeg:https://fortesantatecla.cultura.gov.it/wp-content/uploads/2023/05/2023-05-25-bibliotecla-landini.jpg
END:VEVENT
END:VCALENDAR