BEGIN:VCALENDAR
VERSION:2.0
PRODID:-//Forte Santa Tecla - ECPv6.15.20//NONSGML v1.0//EN
CALSCALE:GREGORIAN
METHOD:PUBLISH
X-ORIGINAL-URL:https://fortesantatecla.cultura.gov.it
X-WR-CALDESC:Eventi per Forte Santa Tecla
REFRESH-INTERVAL;VALUE=DURATION:PT1H
X-Robots-Tag:noindex
X-PUBLISHED-TTL:PT1H
BEGIN:VTIMEZONE
TZID:Europe/Rome
BEGIN:DAYLIGHT
TZOFFSETFROM:+0100
TZOFFSETTO:+0200
TZNAME:CEST
DTSTART:20220327T010000
END:DAYLIGHT
BEGIN:STANDARD
TZOFFSETFROM:+0200
TZOFFSETTO:+0100
TZNAME:CET
DTSTART:20221030T010000
END:STANDARD
BEGIN:DAYLIGHT
TZOFFSETFROM:+0100
TZOFFSETTO:+0200
TZNAME:CEST
DTSTART:20230326T010000
END:DAYLIGHT
BEGIN:STANDARD
TZOFFSETFROM:+0200
TZOFFSETTO:+0100
TZNAME:CET
DTSTART:20231029T010000
END:STANDARD
BEGIN:DAYLIGHT
TZOFFSETFROM:+0100
TZOFFSETTO:+0200
TZNAME:CEST
DTSTART:20240331T010000
END:DAYLIGHT
BEGIN:STANDARD
TZOFFSETFROM:+0200
TZOFFSETTO:+0100
TZNAME:CET
DTSTART:20241027T010000
END:STANDARD
END:VTIMEZONE
BEGIN:VEVENT
DTSTART;TZID=Europe/Rome:20230429T080000
DTEND;TZID=Europe/Rome:20230521T170000
DTSTAMP:20260421T165937
CREATED:20230420T101755Z
LAST-MODIFIED:20230420T101755Z
UID:6382-1682755200-1684688400@fortesantatecla.cultura.gov.it
SUMMARY:Laboratorio Sanremo
DESCRIPTION:Sarà inaugurato sabato 29 aprile alle 16 “Laboratorio Sanremo” un grande progetto d’arte pubblica dell’architetto Paolo Riolzi\,che coinvolge istituzioni\, artisti e cittadini.\n\n\nIl laboratorio si articolerà in diverse fasi e spazierà tra numerose arti visive tra cui la fotografia\, video e racconti.\n\nSaranno esposte immagini scattate da Riolzi nei suoi sopralluoghi a Sanremo e dedicate al territorio e alla sua storia.\n\nNel progetto sono coinvolti anche i ragazzi del liceo Cassini (coordinati dalle insegnanti Lia Motta e Patrizia Magnoni) che proporranno un lungo lavoro sulle spiagge di Sanremo e la loro importanza affettiva attraverso un confronto tra più generazioni.\n\nUna fase del laboratorio sarà dedicata ad Alfredo Moreschi\, vera e propria memoria storica e visiva della città\, che attraverso documenti d’archivio racconterà la Sanremo degli anni Cinquanta e Sessanta.\n\n\n\nPaolo Riolzi\, oltre al suo lavoro di architetto svolge attività didattica come docente di\nfotografia e cultura visiva. Tra le collaborazioni la docenza al Politecnico di Milano\, alla Facoltà di\nDesign e Arti Bolzano e all’Accademia di Brera a Milano.\nHa esposto presso la Triennale di Milano\, Cité de l’Architecture et du Patrimoine di Parigi\, Maxxi\nRoma\, Museion Bolzano\, Mart Rovereto\, Film festival a Lisbona. LACMA\, Los Angeles County\nMuseum of Art\, MUFOCO Museo di Fotografia Contemporanea e ha partecipato alla Biennale di Architettura di Venezia.\n\n“Laboratorio Sanremo” è patrocinato dal Comune di Sanremo\, assessorato alla Cultura e al Turismo. Il progetto è curato da Matteo Balduzzi.\n\nOrari apertura: dal mercoledì alla domenica dalle 10 alle 13 e dalle 15 alle 18.\n\nIngresso 4 euro\, ridotto 2 euro (tra i 18 ed i 25 anni)\, gratuito per i minori di 18 anni
URL:https://fortesantatecla.cultura.gov.it/event/laboratorio-sanremo/
LOCATION:Forte Santa Tecla\, Giardini Vitt. Veneto\, 34\,\, Sanremo\, IM\, 18038\, Italia
CATEGORIES:Mostra
ATTACH;FMTTYPE=image/jpeg:https://fortesantatecla.cultura.gov.it/wp-content/uploads/2023/04/cover960x540.jpg
END:VEVENT
BEGIN:VEVENT
DTSTART;TZID=Europe/Rome:20230429T080000
DTEND;TZID=Europe/Rome:20230521T170000
DTSTAMP:20260421T165937
CREATED:20230420T101755Z
LAST-MODIFIED:20230420T101755Z
UID:8449-1682755200-1684688400@fortesantatecla.cultura.gov.it
SUMMARY:Laboratorio Sanremo
DESCRIPTION:Sarà inaugurato sabato 29 aprile alle 16 “Laboratorio Sanremo” un grande progetto d’arte pubblica dell’architetto Paolo Riolzi\,che coinvolge istituzioni\, artisti e cittadini.\n\n\nIl laboratorio si articolerà in diverse fasi e spazierà tra numerose arti visive tra cui la fotografia\, video e racconti.\n\nSaranno esposte immagini scattate da Riolzi nei suoi sopralluoghi a Sanremo e dedicate al territorio e alla sua storia.\n\nNel progetto sono coinvolti anche i ragazzi del liceo Cassini (coordinati dalle insegnanti Lia Motta e Patrizia Magnoni) che proporranno un lungo lavoro sulle spiagge di Sanremo e la loro importanza affettiva attraverso un confronto tra più generazioni.\n\nUna fase del laboratorio sarà dedicata ad Alfredo Moreschi\, vera e propria memoria storica e visiva della città\, che attraverso documenti d’archivio racconterà la Sanremo degli anni Cinquanta e Sessanta.\n\n\n\nPaolo Riolzi\, oltre al suo lavoro di architetto svolge attività didattica come docente di\nfotografia e cultura visiva. Tra le collaborazioni la docenza al Politecnico di Milano\, alla Facoltà di\nDesign e Arti Bolzano e all’Accademia di Brera a Milano.\nHa esposto presso la Triennale di Milano\, Cité de l’Architecture et du Patrimoine di Parigi\, Maxxi\nRoma\, Museion Bolzano\, Mart Rovereto\, Film festival a Lisbona. LACMA\, Los Angeles County\nMuseum of Art\, MUFOCO Museo di Fotografia Contemporanea e ha partecipato alla Biennale di Architettura di Venezia.\n\n“Laboratorio Sanremo” è patrocinato dal Comune di Sanremo\, assessorato alla Cultura e al Turismo. Il progetto è curato da Matteo Balduzzi.\n\nOrari apertura: dal mercoledì alla domenica dalle 10 alle 13 e dalle 15 alle 18.\n\nIngresso 4 euro\, ridotto 2 euro (tra i 18 ed i 25 anni)\, gratuito per i minori di 18 anni
URL:https://fortesantatecla.cultura.gov.it/event/laboratorio-sanremo-2/
LOCATION:Forte Santa Tecla\, Giardini Vitt. Veneto\, 34\,\, Sanremo\, IM\, 18038\, Italia
CATEGORIES:Mostra
ATTACH;FMTTYPE=image/jpeg:https://fortesantatecla.cultura.gov.it/wp-content/uploads/2023/04/cover960x540.jpg
END:VEVENT
BEGIN:VEVENT
DTSTART;TZID=Europe/Rome:20230505T170000
DTEND;TZID=Europe/Rome:20230505T183000
DTSTAMP:20260421T165937
CREATED:20230503T072914Z
LAST-MODIFIED:20230503T094441Z
UID:7147-1683306000-1683311400@fortesantatecla.cultura.gov.it
SUMMARY:BiblioTecla - Nicola Bolzan e Alberto Tita "Professionista della Guest Experience"
DESCRIPTION:Venerdì 5 Maggio dalle ore 17 appuntamento con “BiblioTecla\, Libri al Forte” ciclo di eventi letterari organizzati in collaborazione con la libreria Ubik Sanremo Libri .\nProtagonisti dell’incontro Nicola Bolzan e Alberto Tita\naffronteranno con “Guest experience” l’interessante mondo dell’accoglienza e la cura del cliente.\nPer creare\, delineare e condividere un’esperienza che possa essere vissuta al meglio dall’ospite\, è necessaria la partecipazione attiva e consapevole di tutto il team. L’accoglienza\, la cura degli ambienti e i servizi offerti devono dunque essere gestiti con grande attenzione\, mettendo sempre al centro il suo benessere e la sua soddisfazione. In questo libro vengono presentati i principi fondamentali per costruire l’essenza della migliore guest experience\, elementi utili per definirne il percorso e strutturarlo dettagliatamente\, oltre a consigli operativi e concreti per gestire il team di collaboratori.\nINGRESSO GRATUITO\nGli appuntamenti con “BiblioTecla\, Libri al Forte” continueranno per tutta la stagione di apertura del Forte.
URL:https://fortesantatecla.cultura.gov.it/event/bibliotecla-nicola-bolzan-e-alberto-tita-professionista-della-guest-experience/
ATTACH;FMTTYPE=image/jpeg:https://fortesantatecla.cultura.gov.it/wp-content/uploads/2023/05/COVER960X540_BIBLIOTECLA_5MAGGIO.jpg
END:VEVENT
BEGIN:VEVENT
DTSTART;TZID=Europe/Rome:20230505T170000
DTEND;TZID=Europe/Rome:20230505T183000
DTSTAMP:20260421T165937
CREATED:20230503T072914Z
LAST-MODIFIED:20230503T072914Z
UID:8455-1683306000-1683311400@fortesantatecla.cultura.gov.it
SUMMARY:BiblioTecla - Nicola Bolzan e Alberto Tita "Professionista della Guest Experience"
DESCRIPTION:Venerdì 5 Maggio dalle ore 17 appuntamento con “BiblioTecla\, Libri al Forte” ciclo di eventi letterari organizzati in collaborazione con la libreria Ubik Sanremo Libri .\nProtagonisti dell’incontro Nicola Bolzan e Alberto Tita\naffronteranno con “Guest experience” l’interessante mondo dell’accoglienza e la cura del cliente.\nPer creare\, delineare e condividere un’esperienza che possa essere vissuta al meglio dall’ospite\, è necessaria la partecipazione attiva e consapevole di tutto il team. L’accoglienza\, la cura degli ambienti e i servizi offerti devono dunque essere gestiti con grande attenzione\, mettendo sempre al centro il suo benessere e la sua soddisfazione. In questo libro vengono presentati i principi fondamentali per costruire l’essenza della migliore guest experience\, elementi utili per definirne il percorso e strutturarlo dettagliatamente\, oltre a consigli operativi e concreti per gestire il team di collaboratori.\nINGRESSO GRATUITO\nGli appuntamenti con “BiblioTecla\, Libri al Forte” continueranno per tutta la stagione di apertura del Forte.
URL:https://fortesantatecla.cultura.gov.it/event/bibliotecla-nicola-bolzan-e-alberto-tita-professionista-della-guest-experience-2/
ATTACH;FMTTYPE=image/jpeg:https://fortesantatecla.cultura.gov.it/wp-content/uploads/2023/05/COVER960X540_BIBLIOTECLA_5MAGGIO.jpg
END:VEVENT
END:VCALENDAR