BEGIN:VCALENDAR
VERSION:2.0
PRODID:-//Forte Santa Tecla - ECPv6.15.20//NONSGML v1.0//EN
CALSCALE:GREGORIAN
METHOD:PUBLISH
X-ORIGINAL-URL:https://fortesantatecla.cultura.gov.it
X-WR-CALDESC:Eventi per Forte Santa Tecla
REFRESH-INTERVAL;VALUE=DURATION:PT1H
X-Robots-Tag:noindex
X-PUBLISHED-TTL:PT1H
BEGIN:VTIMEZONE
TZID:Europe/Rome
BEGIN:DAYLIGHT
TZOFFSETFROM:+0100
TZOFFSETTO:+0200
TZNAME:CEST
DTSTART:20220327T010000
END:DAYLIGHT
BEGIN:STANDARD
TZOFFSETFROM:+0200
TZOFFSETTO:+0100
TZNAME:CET
DTSTART:20221030T010000
END:STANDARD
BEGIN:DAYLIGHT
TZOFFSETFROM:+0100
TZOFFSETTO:+0200
TZNAME:CEST
DTSTART:20230326T010000
END:DAYLIGHT
BEGIN:STANDARD
TZOFFSETFROM:+0200
TZOFFSETTO:+0100
TZNAME:CET
DTSTART:20231029T010000
END:STANDARD
BEGIN:DAYLIGHT
TZOFFSETFROM:+0100
TZOFFSETTO:+0200
TZNAME:CEST
DTSTART:20240331T010000
END:DAYLIGHT
BEGIN:STANDARD
TZOFFSETFROM:+0200
TZOFFSETTO:+0100
TZNAME:CET
DTSTART:20241027T010000
END:STANDARD
END:VTIMEZONE
BEGIN:VEVENT
DTSTART;TZID=Europe/Rome:20230428T170000
DTEND;TZID=Europe/Rome:20230428T183000
DTSTAMP:20260420T193118
CREATED:20230426T062836Z
LAST-MODIFIED:20230426T062836Z
UID:6770-1682701200-1682706600@fortesantatecla.cultura.gov.it
SUMMARY:BiblioTecla- Michele Vaccari "Buio Padre"
DESCRIPTION:Venerdì 28 Aprile dalle ore 17 appuntamento con “BiblioTecla\, Libri al Forte” ciclo di eventi letterari organizzati in collaborazione con la libreria Ubik Sanremo Libri . \nProtagonista dell’incontro Michele Vaccari autore del libro “Buio Padre”. \nCrinale è un borgo sperduto tra i monti liguri e i suoi boschi. Vive di attività antiche: falegnameria\, agricoltura\, manifattura. I ragazzi che vi abitano\, condannati a un futuro privo di slanci\, sono divorati dalla fame di vita\, e non fanno eccezione quattro amici tanto diversi quanto inseparabili: Vinicio\, Raul\, Adamo e Dafne\, morsi ognuno da sogni\, frustrazioni e disagi. \nQuando l’ultima falegnameria chiude e il padre di Vinicio perde il lavoro\, la sua famiglia è costretta a trasferirsi. Per salutarlo\, gli amici del ragazzo organizzano una festa in una chiesa sconsacrata che custodisce un terribile segreto risalente a centinaia d’anni prima. \n  \nQuella stessa sera scoppia un temporale che si tramuta in un alluvione biblica: il borgo viene travolto dal fango\, la grande montagna che lo domina si spacca in due. Dal mattino seguente\, i padri del paese iniziano a manifestare dei comportamenti strani: c’è chi si aggira per casa parlando coi muri\, chi intona canti notturni nel cimitero\, chi stipa l’auto di armi come per prepararsi al giorno del giudizio. \nI quattro amici\, allarmati\, si mettono a indagare intorno al mistero\, e scoprono che alla radice della degenerazione dei genitori c’è qualcosa che si cela oltre la frattura apertasi nel cuore della montagna durante il nubifragio\, e che adesso reclama vendetta. Attraverso una lingua immaginifica e un intreccio ricco di colpi di scena che fa pensare a Stranger Things\, al King di Stand by Me e all’Ammaniti di Anna\, Vaccari narra l’Italia post-Covid e le disillusioni dei giovani d’oggi in un racconto ammantato di un’atmosfera fiabesca\, gotica e soprannaturale che mette i brividi. \n  \nINGRESSO GRATUITO \nGli appuntamenti con “BiblioTecla\, Libri al Forte” continueranno per tutta la stagione di apertura del Forte. \n  \n 
URL:https://fortesantatecla.cultura.gov.it/event/bibliotecla-michele-vaccari-buio-padre/
LOCATION:Forte Santa Tecla\, Giardini Vitt. Veneto\, 34\,\, Sanremo\, IM\, 18038\, Italia
CATEGORIES:Incontro
ATTACH;FMTTYPE=image/jpeg:https://fortesantatecla.cultura.gov.it/wp-content/uploads/2023/04/COVER960X540_BIBLIOTECLA_28APRILE.jpg
END:VEVENT
BEGIN:VEVENT
DTSTART;TZID=Europe/Rome:20230428T170000
DTEND;TZID=Europe/Rome:20230428T183000
DTSTAMP:20260420T193118
CREATED:20230426T062836Z
LAST-MODIFIED:20230426T062836Z
UID:8452-1682701200-1682706600@fortesantatecla.cultura.gov.it
SUMMARY:BiblioTecla- Michele Vaccari "Buio Padre"
DESCRIPTION:Venerdì 28 Aprile dalle ore 17 appuntamento con “BiblioTecla\, Libri al Forte” ciclo di eventi letterari organizzati in collaborazione con la libreria Ubik Sanremo Libri . \nProtagonista dell’incontro Michele Vaccari autore del libro “Buio Padre”. \nCrinale è un borgo sperduto tra i monti liguri e i suoi boschi. Vive di attività antiche: falegnameria\, agricoltura\, manifattura. I ragazzi che vi abitano\, condannati a un futuro privo di slanci\, sono divorati dalla fame di vita\, e non fanno eccezione quattro amici tanto diversi quanto inseparabili: Vinicio\, Raul\, Adamo e Dafne\, morsi ognuno da sogni\, frustrazioni e disagi. \nQuando l’ultima falegnameria chiude e il padre di Vinicio perde il lavoro\, la sua famiglia è costretta a trasferirsi. Per salutarlo\, gli amici del ragazzo organizzano una festa in una chiesa sconsacrata che custodisce un terribile segreto risalente a centinaia d’anni prima. \n  \nQuella stessa sera scoppia un temporale che si tramuta in un alluvione biblica: il borgo viene travolto dal fango\, la grande montagna che lo domina si spacca in due. Dal mattino seguente\, i padri del paese iniziano a manifestare dei comportamenti strani: c’è chi si aggira per casa parlando coi muri\, chi intona canti notturni nel cimitero\, chi stipa l’auto di armi come per prepararsi al giorno del giudizio. \nI quattro amici\, allarmati\, si mettono a indagare intorno al mistero\, e scoprono che alla radice della degenerazione dei genitori c’è qualcosa che si cela oltre la frattura apertasi nel cuore della montagna durante il nubifragio\, e che adesso reclama vendetta. Attraverso una lingua immaginifica e un intreccio ricco di colpi di scena che fa pensare a Stranger Things\, al King di Stand by Me e all’Ammaniti di Anna\, Vaccari narra l’Italia post-Covid e le disillusioni dei giovani d’oggi in un racconto ammantato di un’atmosfera fiabesca\, gotica e soprannaturale che mette i brividi. \n  \nINGRESSO GRATUITO \nGli appuntamenti con “BiblioTecla\, Libri al Forte” continueranno per tutta la stagione di apertura del Forte. \n  \n 
URL:https://fortesantatecla.cultura.gov.it/event/bibliotecla-michele-vaccari-buio-padre-2/
LOCATION:Forte Santa Tecla\, Giardini Vitt. Veneto\, 34\,\, Sanremo\, IM\, 18038\, Italia
CATEGORIES:Incontro
ATTACH;FMTTYPE=image/jpeg:https://fortesantatecla.cultura.gov.it/wp-content/uploads/2023/04/COVER960X540_BIBLIOTECLA_28APRILE.jpg
END:VEVENT
END:VCALENDAR