BEGIN:VCALENDAR
VERSION:2.0
PRODID:-//Forte Santa Tecla - ECPv6.15.20//NONSGML v1.0//EN
CALSCALE:GREGORIAN
METHOD:PUBLISH
X-WR-CALNAME:Forte Santa Tecla
X-ORIGINAL-URL:https://fortesantatecla.cultura.gov.it
X-WR-CALDESC:Eventi per Forte Santa Tecla
REFRESH-INTERVAL;VALUE=DURATION:PT1H
X-Robots-Tag:noindex
X-PUBLISHED-TTL:PT1H
BEGIN:VTIMEZONE
TZID:Europe/Rome
BEGIN:DAYLIGHT
TZOFFSETFROM:+0100
TZOFFSETTO:+0200
TZNAME:CEST
DTSTART:20220327T010000
END:DAYLIGHT
BEGIN:STANDARD
TZOFFSETFROM:+0200
TZOFFSETTO:+0100
TZNAME:CET
DTSTART:20221030T010000
END:STANDARD
BEGIN:DAYLIGHT
TZOFFSETFROM:+0100
TZOFFSETTO:+0200
TZNAME:CEST
DTSTART:20230326T010000
END:DAYLIGHT
BEGIN:STANDARD
TZOFFSETFROM:+0200
TZOFFSETTO:+0100
TZNAME:CET
DTSTART:20231029T010000
END:STANDARD
BEGIN:DAYLIGHT
TZOFFSETFROM:+0100
TZOFFSETTO:+0200
TZNAME:CEST
DTSTART:20240331T010000
END:DAYLIGHT
BEGIN:STANDARD
TZOFFSETFROM:+0200
TZOFFSETTO:+0100
TZNAME:CET
DTSTART:20241027T010000
END:STANDARD
END:VTIMEZONE
BEGIN:VEVENT
DTSTART;TZID=Europe/Rome:20230425T000000
DTEND;TZID=Europe/Rome:20230425T235959
DTSTAMP:20260420T153535
CREATED:20230419T151227Z
LAST-MODIFIED:20230419T151323Z
UID:6356-1682380800-1682467199@fortesantatecla.cultura.gov.it
SUMMARY:APERTURA STRAORDINARIA PER IL 25 APRILE 2023
DESCRIPTION:Forte Santa Tecla apre straordinariamente martedì 25 aprile 2023 con ingresso gratuito in occasione dell’ Anniversario della liberazione d’Italia \nL’orario di apertura sarà dalle 10 alle 13 e dalle 15 alle 18 \nIngresso libero. \n 
URL:https://fortesantatecla.cultura.gov.it/event/apertura-straordinaria-per-il-25-aprile-2023/
LOCATION:Forte Santa Tecla\, Giardini Vitt. Veneto\, 34\,\, Sanremo\, IM\, 18038\, Italia
CATEGORIES:Mostra
ATTACH;FMTTYPE=image/jpeg:https://fortesantatecla.cultura.gov.it/wp-content/uploads/2023/04/WhatsApp-Image-2023-04-19-at-8.54.43-AM.jpeg
END:VEVENT
BEGIN:VEVENT
DTSTART;TZID=Europe/Rome:20230425T000000
DTEND;TZID=Europe/Rome:20230425T235959
DTSTAMP:20260420T153535
CREATED:20230419T151227Z
LAST-MODIFIED:20230419T151227Z
UID:8447-1682380800-1682467199@fortesantatecla.cultura.gov.it
SUMMARY:APERTURA STRAORDINARIA PER IL 25 APRILE 2023
DESCRIPTION:Forte Santa Tecla apre straordinariamente martedì 25 aprile 2023 con ingresso gratuito in occasione dell’ Anniversario della liberazione d’Italia \nL’orario di apertura sarà dalle 10 alle 13 e dalle 15 alle 18 \nIngresso libero. \n 
URL:https://fortesantatecla.cultura.gov.it/event/apertura-straordinaria-per-il-25-aprile-2023-2/
LOCATION:Forte Santa Tecla\, Giardini Vitt. Veneto\, 34\,\, Sanremo\, IM\, 18038\, Italia
CATEGORIES:Mostra
ATTACH;FMTTYPE=image/jpeg:https://fortesantatecla.cultura.gov.it/wp-content/uploads/2023/04/WhatsApp-Image-2023-04-19-at-8.54.43-AM.jpeg
END:VEVENT
END:VCALENDAR