BEGIN:VCALENDAR
VERSION:2.0
PRODID:-//Forte Santa Tecla - ECPv6.15.20//NONSGML v1.0//EN
CALSCALE:GREGORIAN
METHOD:PUBLISH
X-WR-CALNAME:Forte Santa Tecla
X-ORIGINAL-URL:https://fortesantatecla.cultura.gov.it
X-WR-CALDESC:Eventi per Forte Santa Tecla
REFRESH-INTERVAL;VALUE=DURATION:PT1H
X-Robots-Tag:noindex
X-PUBLISHED-TTL:PT1H
BEGIN:VTIMEZONE
TZID:Europe/Rome
BEGIN:DAYLIGHT
TZOFFSETFROM:+0100
TZOFFSETTO:+0200
TZNAME:CEST
DTSTART:20220327T010000
END:DAYLIGHT
BEGIN:STANDARD
TZOFFSETFROM:+0200
TZOFFSETTO:+0100
TZNAME:CET
DTSTART:20221030T010000
END:STANDARD
BEGIN:DAYLIGHT
TZOFFSETFROM:+0100
TZOFFSETTO:+0200
TZNAME:CEST
DTSTART:20230326T010000
END:DAYLIGHT
BEGIN:STANDARD
TZOFFSETFROM:+0200
TZOFFSETTO:+0100
TZNAME:CET
DTSTART:20231029T010000
END:STANDARD
BEGIN:DAYLIGHT
TZOFFSETFROM:+0100
TZOFFSETTO:+0200
TZNAME:CEST
DTSTART:20240331T010000
END:DAYLIGHT
BEGIN:STANDARD
TZOFFSETFROM:+0200
TZOFFSETTO:+0100
TZNAME:CET
DTSTART:20241027T010000
END:STANDARD
END:VTIMEZONE
BEGIN:VEVENT
DTSTART;TZID=Europe/Rome:20230422T170000
DTEND;TZID=Europe/Rome:20230422T190000
DTSTAMP:20260420T153324
CREATED:20230414T101307Z
LAST-MODIFIED:20230414T101356Z
UID:5985-1682182800-1682190000@fortesantatecla.cultura.gov.it
SUMMARY:BiblioTecla - Paola Capriolo - Irina Nikolaevna o l'arte del romanzo
DESCRIPTION:Sabato 22 Aprile dalle ore 17 appuntamento con “BiblioTecla\, Libri al Forte” ciclo di eventi letterari organizzati in collaborazione con la libreria Ubik Sanremo Libri . \nProtagonista dell’incontro PAOLA CAPRIOLO autrice del libro “Irina Nikolaevna o l’arte del romanzo”. \n“Un neo nero a forma di stella\, poco sopra il polso: Lady Brown non può fare a meno di notarlo mentre conduce il colloquio di assunzione con Irina Nikolaevna\, che rispondendo al suo annuncio si è candidata per diventare sua dama di compagnia. Così Irina le spiega di essere figlia illegittima di un gentiluomo di camera della zarina Maria Aleksandrovna e di essere vissuta a lungo nell’ orbita della corte: ora è in cerca di un impiego\, ma nelle sue vene scorre il nobile sangue dei boiardi.\nLady Brown non ha esitazioni\, e Irina Nikolaevna si trasferisce nella sua grande casa di Sanremo\, accanto a un compassato maggiordomo e a due personaggi silenziosi ma capaci di osservare ogni cosa con sorniona intelligenza: i gatti Lady Rowena e Sir Galahad.\nPer più di ventanni le due donne vivranno insieme le stagioni della riviera ligure\, la mondanità invernale\, i languori estivi\, le calamità\, gli incontri sorprendenti: come quello con un ex insegnante anarchico che sembra riconoscere Irina\, o con il barone von Tronka\, che vorrebbe chiedere la sua mano\, o con Alfred Nobel\, tormentato dai presagi riguardo alle proprie invenzioni.\nNella luce dorata della riviera ligure fin de siècle\, con il rombo del Novecento che si avvicina in un’atmosfera così simile alla nostra recente belle époque\, spezzata all’improvviso dalla pandemia e dalla guerra le due protagoniste di questo romanzo vivono e amano: o forse sognano\, perché è questo il modo migliore di vivere e di amare.\nPaola Capriolo costruisce un gioco letterario elegantissimo e profondo\, sul crinale tra la luce deludente della realtà e l’ombra affascinante delle grandi speranze. E celebra il potere della letteratura\, luogo più reale di quanto pensiamo\, dove si può scegliere una terza via: quella dell’immaginazione che tutto trasfigura.\nINGRESSO GRATUITO\nGli appuntamenti con “BiblioTecla\, Libri al Forte” continueranno per tutta la stagione di apertura del Forte.\nContinuate a seguirci per scoprire gli eventi in programma.
URL:https://fortesantatecla.cultura.gov.it/event/bibliotecla/
LOCATION:Forte Santa Tecla\, Giardini Vitt. Veneto\, 34\,\, Sanremo\, IM\, 18038\, Italia
CATEGORIES:Incontro
ATTACH;FMTTYPE=image/jpeg:https://fortesantatecla.cultura.gov.it/wp-content/uploads/2023/04/COVER960X540_BIBLIOTECLA_22APRILE.jpg
END:VEVENT
BEGIN:VEVENT
DTSTART;TZID=Europe/Rome:20230422T170000
DTEND;TZID=Europe/Rome:20230422T190000
DTSTAMP:20260420T153324
CREATED:20230414T101307Z
LAST-MODIFIED:20230414T101307Z
UID:8444-1682182800-1682190000@fortesantatecla.cultura.gov.it
SUMMARY:BiblioTecla - Paola Capriolo - Irina Nikolaevna o l'arte del romanzo
DESCRIPTION:Sabato 22 Aprile dalle ore 17 appuntamento con “BiblioTecla\, Libri al Forte” ciclo di eventi letterari organizzati in collaborazione con la libreria Ubik Sanremo Libri . \nProtagonista dell’incontro PAOLA CAPRIOLO autrice del libro “Irina Nikolaevna o l’arte del romanzo”. \n“Un neo nero a forma di stella\, poco sopra il polso: Lady Brown non può fare a meno di notarlo mentre conduce il colloquio di assunzione con Irina Nikolaevna\, che rispondendo al suo annuncio si è candidata per diventare sua dama di compagnia. Così Irina le spiega di essere figlia illegittima di un gentiluomo di camera della zarina Maria Aleksandrovna e di essere vissuta a lungo nell’ orbita della corte: ora è in cerca di un impiego\, ma nelle sue vene scorre il nobile sangue dei boiardi.\nLady Brown non ha esitazioni\, e Irina Nikolaevna si trasferisce nella sua grande casa di Sanremo\, accanto a un compassato maggiordomo e a due personaggi silenziosi ma capaci di osservare ogni cosa con sorniona intelligenza: i gatti Lady Rowena e Sir Galahad.\nPer più di ventanni le due donne vivranno insieme le stagioni della riviera ligure\, la mondanità invernale\, i languori estivi\, le calamità\, gli incontri sorprendenti: come quello con un ex insegnante anarchico che sembra riconoscere Irina\, o con il barone von Tronka\, che vorrebbe chiedere la sua mano\, o con Alfred Nobel\, tormentato dai presagi riguardo alle proprie invenzioni.\nNella luce dorata della riviera ligure fin de siècle\, con il rombo del Novecento che si avvicina in un’atmosfera così simile alla nostra recente belle époque\, spezzata all’improvviso dalla pandemia e dalla guerra le due protagoniste di questo romanzo vivono e amano: o forse sognano\, perché è questo il modo migliore di vivere e di amare.\nPaola Capriolo costruisce un gioco letterario elegantissimo e profondo\, sul crinale tra la luce deludente della realtà e l’ombra affascinante delle grandi speranze. E celebra il potere della letteratura\, luogo più reale di quanto pensiamo\, dove si può scegliere una terza via: quella dell’immaginazione che tutto trasfigura.\nINGRESSO GRATUITO\nGli appuntamenti con “BiblioTecla\, Libri al Forte” continueranno per tutta la stagione di apertura del Forte.\nContinuate a seguirci per scoprire gli eventi in programma.
URL:https://fortesantatecla.cultura.gov.it/event/bibliotecla-2/
LOCATION:Forte Santa Tecla\, Giardini Vitt. Veneto\, 34\,\, Sanremo\, IM\, 18038\, Italia
CATEGORIES:Incontro
ATTACH;FMTTYPE=image/jpeg:https://fortesantatecla.cultura.gov.it/wp-content/uploads/2023/04/COVER960X540_BIBLIOTECLA_22APRILE.jpg
END:VEVENT
END:VCALENDAR