BEGIN:VCALENDAR
VERSION:2.0
PRODID:-//Forte Santa Tecla - ECPv6.15.20//NONSGML v1.0//EN
CALSCALE:GREGORIAN
METHOD:PUBLISH
X-ORIGINAL-URL:https://fortesantatecla.cultura.gov.it
X-WR-CALDESC:Eventi per Forte Santa Tecla
REFRESH-INTERVAL;VALUE=DURATION:PT1H
X-Robots-Tag:noindex
X-PUBLISHED-TTL:PT1H
BEGIN:VTIMEZONE
TZID:Europe/Rome
BEGIN:DAYLIGHT
TZOFFSETFROM:+0100
TZOFFSETTO:+0200
TZNAME:CEST
DTSTART:20220327T010000
END:DAYLIGHT
BEGIN:STANDARD
TZOFFSETFROM:+0200
TZOFFSETTO:+0100
TZNAME:CET
DTSTART:20221030T010000
END:STANDARD
BEGIN:DAYLIGHT
TZOFFSETFROM:+0100
TZOFFSETTO:+0200
TZNAME:CEST
DTSTART:20230326T010000
END:DAYLIGHT
BEGIN:STANDARD
TZOFFSETFROM:+0200
TZOFFSETTO:+0100
TZNAME:CET
DTSTART:20231029T010000
END:STANDARD
BEGIN:DAYLIGHT
TZOFFSETFROM:+0100
TZOFFSETTO:+0200
TZNAME:CEST
DTSTART:20240331T010000
END:DAYLIGHT
BEGIN:STANDARD
TZOFFSETFROM:+0200
TZOFFSETTO:+0100
TZNAME:CET
DTSTART:20241027T010000
END:STANDARD
END:VTIMEZONE
BEGIN:VEVENT
DTSTART;TZID=Europe/Rome:20230413T170000
DTEND;TZID=Europe/Rome:20230413T190000
DTSTAMP:20260420T162908
CREATED:20230411T164537Z
LAST-MODIFIED:20230411T165232Z
UID:5974-1681405200-1681412400@fortesantatecla.cultura.gov.it
SUMMARY:BiblioTecla - Cristina Rava - Il sale sulla ferita
DESCRIPTION:Giovedì 13 Aprile dalle ore 17 appuntamento con “BiblioTecla\, Libri al Forte” ciclo di eventi letterari organizzati in collaborazione con la libreria Ubik Sanremo Libri .\nProtagonista dell’incontro CRISTINA RAVA autrice del libro “Il sale sulla ferita”.\n\nTempi duri per la dottoressa Ardelia Spinola. Sta rimuginando sul rapporto un po’ troppo intimo tra i suoi carissimi amici\, il commissario in pensione Bartolomeo Rebaudengo e la pianista Norma Picolit\, quando riceve una strana telefonata dal suo ex fidanzato Arturo. Strana perché ha come la sensazione che lui taccia il vero motivo della chiamata. Passano pochi giorni e Ardelia è sul luogo di un crimine per esaminare un cadavere\, ma il corpo che viene ripescato con un proiettile nel torace dalla piscina della villa di Davide Drusi\, imprenditore ligure\, è quello di Arturo. Ardelia è sconvolta\, e ancora di più la turba che i due uomini siano pressoché identici uno all’altro. Forse quella peculiare somiglianza potrebbe spiegare il delitto: uno scambio di persona.A stare vicino ad Ardelia e a risollevarla dal dolore c’è sempre Bartolomeo\, che proverà in ogni modo a tenere la dottoressa Spinola lontana dai guai. Lei\, però\, visto il forte coinvolgimento emotivo\, non sa rimanere alla larga dalle indagini. Con il suo humour inconfondibile\, Cristina Rava costruisce un’affilata commedia nera\, un sapiente gioco di ruoli\, che porterà alla luce un intrico di avidità e miseria umana\, nel quale però rimane lo spazio per inaspettati avvicinamenti sentimentali.\n\nIngresso libero
URL:https://fortesantatecla.cultura.gov.it/event/bibliotecla-cristina-rava-il-sale-sulla-ferita/
LOCATION:Forte Santa Tecla\, Giardini Vitt. Veneto\, 34\,\, Sanremo\, IM\, 18038\, Italia
CATEGORIES:Incontro
ATTACH;FMTTYPE=image/jpeg:https://fortesantatecla.cultura.gov.it/wp-content/uploads/2023/04/023-04-cristina-rava.jpg
END:VEVENT
BEGIN:VEVENT
DTSTART;TZID=Europe/Rome:20230413T170000
DTEND;TZID=Europe/Rome:20230413T190000
DTSTAMP:20260420T162908
CREATED:20230411T164537Z
LAST-MODIFIED:20230411T164537Z
UID:8443-1681405200-1681412400@fortesantatecla.cultura.gov.it
SUMMARY:BiblioTecla - Cristina Rava - Il sale sulla ferita
DESCRIPTION:Giovedì 13 Aprile dalle ore 17 appuntamento con “BiblioTecla\, Libri al Forte” ciclo di eventi letterari organizzati in collaborazione con la libreria Ubik Sanremo Libri .\nProtagonista dell’incontro CRISTINA RAVA autrice del libro “Il sale sulla ferita”.\n\nTempi duri per la dottoressa Ardelia Spinola. Sta rimuginando sul rapporto un po’ troppo intimo tra i suoi carissimi amici\, il commissario in pensione Bartolomeo Rebaudengo e la pianista Norma Picolit\, quando riceve una strana telefonata dal suo ex fidanzato Arturo. Strana perché ha come la sensazione che lui taccia il vero motivo della chiamata. Passano pochi giorni e Ardelia è sul luogo di un crimine per esaminare un cadavere\, ma il corpo che viene ripescato con un proiettile nel torace dalla piscina della villa di Davide Drusi\, imprenditore ligure\, è quello di Arturo. Ardelia è sconvolta\, e ancora di più la turba che i due uomini siano pressoché identici uno all’altro. Forse quella peculiare somiglianza potrebbe spiegare il delitto: uno scambio di persona.A stare vicino ad Ardelia e a risollevarla dal dolore c’è sempre Bartolomeo\, che proverà in ogni modo a tenere la dottoressa Spinola lontana dai guai. Lei\, però\, visto il forte coinvolgimento emotivo\, non sa rimanere alla larga dalle indagini. Con il suo humour inconfondibile\, Cristina Rava costruisce un’affilata commedia nera\, un sapiente gioco di ruoli\, che porterà alla luce un intrico di avidità e miseria umana\, nel quale però rimane lo spazio per inaspettati avvicinamenti sentimentali.\n\nIngresso libero
URL:https://fortesantatecla.cultura.gov.it/event/bibliotecla-cristina-rava-il-sale-sulla-ferita-2/
LOCATION:Forte Santa Tecla\, Giardini Vitt. Veneto\, 34\,\, Sanremo\, IM\, 18038\, Italia
CATEGORIES:Incontro
ATTACH;FMTTYPE=image/jpeg:https://fortesantatecla.cultura.gov.it/wp-content/uploads/2023/04/023-04-cristina-rava.jpg
END:VEVENT
END:VCALENDAR