BEGIN:VCALENDAR
VERSION:2.0
PRODID:-//Forte Santa Tecla - ECPv6.15.20//NONSGML v1.0//EN
CALSCALE:GREGORIAN
METHOD:PUBLISH
X-ORIGINAL-URL:https://fortesantatecla.cultura.gov.it
X-WR-CALDESC:Eventi per Forte Santa Tecla
REFRESH-INTERVAL;VALUE=DURATION:PT1H
X-Robots-Tag:noindex
X-PUBLISHED-TTL:PT1H
BEGIN:VTIMEZONE
TZID:Europe/Rome
BEGIN:DAYLIGHT
TZOFFSETFROM:+0100
TZOFFSETTO:+0200
TZNAME:CEST
DTSTART:20220327T010000
END:DAYLIGHT
BEGIN:STANDARD
TZOFFSETFROM:+0200
TZOFFSETTO:+0100
TZNAME:CET
DTSTART:20221030T010000
END:STANDARD
BEGIN:DAYLIGHT
TZOFFSETFROM:+0100
TZOFFSETTO:+0200
TZNAME:CEST
DTSTART:20230326T010000
END:DAYLIGHT
BEGIN:STANDARD
TZOFFSETFROM:+0200
TZOFFSETTO:+0100
TZNAME:CET
DTSTART:20231029T010000
END:STANDARD
BEGIN:DAYLIGHT
TZOFFSETFROM:+0100
TZOFFSETTO:+0200
TZNAME:CEST
DTSTART:20240331T010000
END:DAYLIGHT
BEGIN:STANDARD
TZOFFSETFROM:+0200
TZOFFSETTO:+0100
TZNAME:CET
DTSTART:20241027T010000
END:STANDARD
END:VTIMEZONE
BEGIN:VEVENT
DTSTART;TZID=Europe/Rome:20230408T170000
DTEND;TZID=Europe/Rome:20230408T190000
DTSTAMP:20260420T162518
CREATED:20230328T133515Z
LAST-MODIFIED:20230328T133635Z
UID:5220-1680973200-1680980400@fortesantatecla.cultura.gov.it
SUMMARY:BiblioTecla - Orso Tosco - Nanga Parbat
DESCRIPTION:L’autore incontra i lettori e firma le copie del suo libro \nIl Nanga Parbat non è soltanto una montagna fra le più alte della Terra: rappresenta il sogno\, il miraggio\, possiede una forza magnetica in grado di attrarre con la stessa potenza le persone più diverse. Orso Tosco racconta con passione le storie delle donne e degli uomini che non si sono accontentati di contemplarlo\, e che spinti dal desiderio – o meglio\, dall’ossessione – di conquistarne la vetta hanno messo a rischio la propria vita. Tra la rincorsa ai record\, gli affronti alle comunità locali e lo spirito di collaborazione che negli anni ha ceduto il posto a un approccio sempre più individualistico\, la storia della sfida dell’uomo alle pareti del Nanga Parbat – qui racchiusa nelle vicende dei più noti alpinisti\, da Albert Mummery a Élisabeth Revol\, da Simone Moro a Daniele Nardi\, da Reinhold Messner a Nives Meroi – è anche e soprattutto la storia dei cambiamenti intercorsi nella nostra società nel corso dell’ultimo secolo. Con la sua gelida quiete\, il massiccio testimonia il mutamento di sguardo dell’uomo\, che vi si accosta cercando di risolvere il mistero di quelle altezze assassine dove l’ossigeno viene a mancare\, «vago come un sogno incomprensibile e crudelmente necessario». Un mistero che negli anni è valso al Nanga Parbat molti e inquietanti nomi: la Montagna Nuda\, la Montagna Mangiauomini\, la Montagna del Diavolo. Alle testimonianze e ai ricordi di chi ha consacrato la propria vita all’alta quota\, Tosco affianca brani di poeti e artisti\, non perché la montagna abbia bisogno di autorizzazioni culturali ma perché soltanto le parole dei visionari possiedono la forza necessaria per accompagnarci verso quel punto estremo in cui l’ultima neve sfiora il cielo.
URL:https://fortesantatecla.cultura.gov.it/event/bibliotecla-orso-tosco-nanga-parbat/
LOCATION:Forte Santa Tecla\, Giardini Vitt. Veneto\, 34\,\, Sanremo\, IM\, 18038\, Italia
CATEGORIES:Incontro
ATTACH;FMTTYPE=image/jpeg:https://fortesantatecla.cultura.gov.it/wp-content/uploads/2023/03/LOCANDINE_A3_BIBLIOTECLA-03-scaled.jpg
END:VEVENT
BEGIN:VEVENT
DTSTART;TZID=Europe/Rome:20230408T170000
DTEND;TZID=Europe/Rome:20230408T190000
DTSTAMP:20260420T162518
CREATED:20230328T133515Z
LAST-MODIFIED:20230328T133515Z
UID:8439-1680973200-1680980400@fortesantatecla.cultura.gov.it
SUMMARY:BiblioTecla - Orso Tosco - Nanga Parbat
DESCRIPTION:L’autore incontra i lettori e firma le copie del suo libro \nIl Nanga Parbat non è soltanto una montagna fra le più alte della Terra: rappresenta il sogno\, il miraggio\, possiede una forza magnetica in grado di attrarre con la stessa potenza le persone più diverse. Orso Tosco racconta con passione le storie delle donne e degli uomini che non si sono accontentati di contemplarlo\, e che spinti dal desiderio – o meglio\, dall’ossessione – di conquistarne la vetta hanno messo a rischio la propria vita. Tra la rincorsa ai record\, gli affronti alle comunità locali e lo spirito di collaborazione che negli anni ha ceduto il posto a un approccio sempre più individualistico\, la storia della sfida dell’uomo alle pareti del Nanga Parbat – qui racchiusa nelle vicende dei più noti alpinisti\, da Albert Mummery a Élisabeth Revol\, da Simone Moro a Daniele Nardi\, da Reinhold Messner a Nives Meroi – è anche e soprattutto la storia dei cambiamenti intercorsi nella nostra società nel corso dell’ultimo secolo. Con la sua gelida quiete\, il massiccio testimonia il mutamento di sguardo dell’uomo\, che vi si accosta cercando di risolvere il mistero di quelle altezze assassine dove l’ossigeno viene a mancare\, «vago come un sogno incomprensibile e crudelmente necessario». Un mistero che negli anni è valso al Nanga Parbat molti e inquietanti nomi: la Montagna Nuda\, la Montagna Mangiauomini\, la Montagna del Diavolo. Alle testimonianze e ai ricordi di chi ha consacrato la propria vita all’alta quota\, Tosco affianca brani di poeti e artisti\, non perché la montagna abbia bisogno di autorizzazioni culturali ma perché soltanto le parole dei visionari possiedono la forza necessaria per accompagnarci verso quel punto estremo in cui l’ultima neve sfiora il cielo.
URL:https://fortesantatecla.cultura.gov.it/event/bibliotecla-orso-tosco-nanga-parbat-2/
LOCATION:Forte Santa Tecla\, Giardini Vitt. Veneto\, 34\,\, Sanremo\, IM\, 18038\, Italia
CATEGORIES:Incontro
ATTACH;FMTTYPE=image/jpeg:https://fortesantatecla.cultura.gov.it/wp-content/uploads/2023/03/LOCANDINE_A3_BIBLIOTECLA-03-scaled.jpg
END:VEVENT
END:VCALENDAR