BEGIN:VCALENDAR
VERSION:2.0
PRODID:-//Forte Santa Tecla - ECPv6.15.20//NONSGML v1.0//EN
CALSCALE:GREGORIAN
METHOD:PUBLISH
X-ORIGINAL-URL:https://fortesantatecla.cultura.gov.it
X-WR-CALDESC:Eventi per Forte Santa Tecla
REFRESH-INTERVAL;VALUE=DURATION:PT1H
X-Robots-Tag:noindex
X-PUBLISHED-TTL:PT1H
BEGIN:VTIMEZONE
TZID:Europe/Rome
BEGIN:DAYLIGHT
TZOFFSETFROM:+0100
TZOFFSETTO:+0200
TZNAME:CEST
DTSTART:20220327T010000
END:DAYLIGHT
BEGIN:STANDARD
TZOFFSETFROM:+0200
TZOFFSETTO:+0100
TZNAME:CET
DTSTART:20221030T010000
END:STANDARD
BEGIN:DAYLIGHT
TZOFFSETFROM:+0100
TZOFFSETTO:+0200
TZNAME:CEST
DTSTART:20230326T010000
END:DAYLIGHT
BEGIN:STANDARD
TZOFFSETFROM:+0200
TZOFFSETTO:+0100
TZNAME:CET
DTSTART:20231029T010000
END:STANDARD
BEGIN:DAYLIGHT
TZOFFSETFROM:+0100
TZOFFSETTO:+0200
TZNAME:CEST
DTSTART:20240331T010000
END:DAYLIGHT
BEGIN:STANDARD
TZOFFSETFROM:+0200
TZOFFSETTO:+0100
TZNAME:CET
DTSTART:20241027T010000
END:STANDARD
END:VTIMEZONE
BEGIN:VEVENT
DTSTART;TZID=Europe/Rome:20230406T170000
DTEND;TZID=Europe/Rome:20230406T190000
DTSTAMP:20260420T192932
CREATED:20230328T133915Z
LAST-MODIFIED:20230328T134209Z
UID:5224-1680800400-1680807600@fortesantatecla.cultura.gov.it
SUMMARY:BiblioTecla - Gian Andrea Cerone - Il trattamento del silenzio
DESCRIPTION:L’autore incontra i lettori e firma le copie del suo libro. \nC’è più ombra che luce a Milano nel mese di novembre. Non sono giorni facili per le donne e gli uomini della UACV\, l’Unità di Analisi del Crimine Violento\, che saranno travolti da otto incredibili giornate intrise di sangue e crudeltà. Cosa lega i cadaveri\, orribilmente seviziati\, di due noti collezionisti d’arte\, alla sparizione di un libro esoterico che custodisce un antico segreto? Quale insano istinto scatena proprio ora la follia di un maniaco tra i corridoi universitari alla ricerca di giovani prede femminili? Le vicende personali del solido commissario Mandelli\, nell’inusuale veste di studente fuori corso dall’animo inquieto\, e quelle del fascinoso e irruento ispettore Casalegno si intrecciano alle trame serrate della caccia a cui partecipano tutti i protagonisti della squadra\, aiutati per l’occasione da un’energica poliziotta valtellinese e da un brillante maggiore dei carabinieri. Lungo le strade di una Milano fradicia di pioggia e di corruzione\, il lettore viene trascinato in un vortice di inganni e colpi di scena\, senza trovare\, fino all’ultima riga\, una certezza alla quale aggrapparsi.
URL:https://fortesantatecla.cultura.gov.it/event/bibliotecla-gian-andrea-cerone/
LOCATION:Forte Santa Tecla\, Giardini Vitt. Veneto\, 34\,\, Sanremo\, IM\, 18038\, Italia
CATEGORIES:Incontro
ATTACH;FMTTYPE=image/jpeg:https://fortesantatecla.cultura.gov.it/wp-content/uploads/2023/03/LOCANDINE_A3_BIBLIOTECLA_Tavola-disegno-1-scaled.jpg
END:VEVENT
BEGIN:VEVENT
DTSTART;TZID=Europe/Rome:20230406T170000
DTEND;TZID=Europe/Rome:20230406T190000
DTSTAMP:20260420T192932
CREATED:20230328T133915Z
LAST-MODIFIED:20230328T133915Z
UID:8440-1680800400-1680807600@fortesantatecla.cultura.gov.it
SUMMARY:BiblioTecla - Gian Andrea Cerone - Il trattamento del silenzio
DESCRIPTION:L’autore incontra i lettori e firma le copie del suo libro. \nC’è più ombra che luce a Milano nel mese di novembre. Non sono giorni facili per le donne e gli uomini della UACV\, l’Unità di Analisi del Crimine Violento\, che saranno travolti da otto incredibili giornate intrise di sangue e crudeltà. Cosa lega i cadaveri\, orribilmente seviziati\, di due noti collezionisti d’arte\, alla sparizione di un libro esoterico che custodisce un antico segreto? Quale insano istinto scatena proprio ora la follia di un maniaco tra i corridoi universitari alla ricerca di giovani prede femminili? Le vicende personali del solido commissario Mandelli\, nell’inusuale veste di studente fuori corso dall’animo inquieto\, e quelle del fascinoso e irruento ispettore Casalegno si intrecciano alle trame serrate della caccia a cui partecipano tutti i protagonisti della squadra\, aiutati per l’occasione da un’energica poliziotta valtellinese e da un brillante maggiore dei carabinieri. Lungo le strade di una Milano fradicia di pioggia e di corruzione\, il lettore viene trascinato in un vortice di inganni e colpi di scena\, senza trovare\, fino all’ultima riga\, una certezza alla quale aggrapparsi.
URL:https://fortesantatecla.cultura.gov.it/event/bibliotecla-gian-andrea-cerone-2/
LOCATION:Forte Santa Tecla\, Giardini Vitt. Veneto\, 34\,\, Sanremo\, IM\, 18038\, Italia
CATEGORIES:Incontro
ATTACH;FMTTYPE=image/jpeg:https://fortesantatecla.cultura.gov.it/wp-content/uploads/2023/03/LOCANDINE_A3_BIBLIOTECLA_Tavola-disegno-1-scaled.jpg
END:VEVENT
END:VCALENDAR