BEGIN:VCALENDAR
VERSION:2.0
PRODID:-//Forte Santa Tecla - ECPv6.15.20//NONSGML v1.0//EN
CALSCALE:GREGORIAN
METHOD:PUBLISH
X-WR-CALNAME:Forte Santa Tecla
X-ORIGINAL-URL:https://fortesantatecla.cultura.gov.it
X-WR-CALDESC:Eventi per Forte Santa Tecla
REFRESH-INTERVAL;VALUE=DURATION:PT1H
X-Robots-Tag:noindex
X-PUBLISHED-TTL:PT1H
BEGIN:VTIMEZONE
TZID:Europe/Rome
BEGIN:DAYLIGHT
TZOFFSETFROM:+0100
TZOFFSETTO:+0200
TZNAME:CEST
DTSTART:20220327T010000
END:DAYLIGHT
BEGIN:STANDARD
TZOFFSETFROM:+0200
TZOFFSETTO:+0100
TZNAME:CET
DTSTART:20221030T010000
END:STANDARD
BEGIN:DAYLIGHT
TZOFFSETFROM:+0100
TZOFFSETTO:+0200
TZNAME:CEST
DTSTART:20230326T010000
END:DAYLIGHT
BEGIN:STANDARD
TZOFFSETFROM:+0200
TZOFFSETTO:+0100
TZNAME:CET
DTSTART:20231029T010000
END:STANDARD
BEGIN:DAYLIGHT
TZOFFSETFROM:+0100
TZOFFSETTO:+0200
TZNAME:CEST
DTSTART:20240331T010000
END:DAYLIGHT
BEGIN:STANDARD
TZOFFSETFROM:+0200
TZOFFSETTO:+0100
TZNAME:CET
DTSTART:20241027T010000
END:STANDARD
END:VTIMEZONE
BEGIN:VEVENT
DTSTART;TZID=Europe/Rome:20230405T110000
DTEND;TZID=Europe/Rome:20230405T123000
DTSTAMP:20260420T153343
CREATED:20230329T104757Z
LAST-MODIFIED:20230329T112059Z
UID:5228-1680692400-1680697800@fortesantatecla.cultura.gov.it
SUMMARY:Presentazione dell'iniziativa ScopriAmo Santa Tecla Sala Magazzino di Ponente
DESCRIPTION:Mercoledì 5 aprile alle ore 11 Presentazione dell’iniziativa ScopriAmo Santa Tecla Sala Magazzino di Ponente.\n\nIl progetto è nato dall’esigenza condivisa dal Rotary Club Sanremo con la Direzione regionale Musei Liguria\, che gestisce Forte Santa Tecla\, di rilanciare il “percorso turistico-culturale” che unisce i più importanti monumenti della città\, ideato dallo stesso Club nel 2007 e del quale il Forte è una delle tappe. Il Forte per molti anni\, a seguito degli importanti lavori di restauro oggi in parte conclusi grazie ai fondi del Ministero della Cultura\, non è mai stato pienamente coinvolto nell’itinerario e non è segnalato dall’apposita targa.\n\nMercoledì quindi verrà presentata non solo la nuova segnaletica ma anche tutte le iniziative volte a favorire la conoscenza di Forte Santa Tecla anche con il coinvolgimento dei più giovani e degli Studenti dell’Accademia di Belle Arti di Sanremo\, partner dell’iniziativa.\n\nL’ingresso all’evento e gratuito.
URL:https://fortesantatecla.cultura.gov.it/event/presentazione-delliniziativa-scopriamo-santa-tecla-sala-magazzino-di-ponente/
LOCATION:Forte Santa Tecla\, Giardini Vitt. Veneto\, 34\,\, Sanremo\, IM\, 18038\, Italia
ATTACH;FMTTYPE=image/jpeg:https://fortesantatecla.cultura.gov.it/wp-content/uploads/2023/03/SCOPRIAMO-1.jpg
END:VEVENT
BEGIN:VEVENT
DTSTART;TZID=Europe/Rome:20230405T110000
DTEND;TZID=Europe/Rome:20230405T123000
DTSTAMP:20260420T153343
CREATED:20230329T104757Z
LAST-MODIFIED:20230329T104757Z
UID:8441-1680692400-1680697800@fortesantatecla.cultura.gov.it
SUMMARY:Presentazione dell'iniziativa ScopriAmo Santa Tecla Sala Magazzino di Ponente
DESCRIPTION:Mercoledì 5 aprile alle ore 11 Presentazione dell’iniziativa ScopriAmo Santa Tecla Sala Magazzino di Ponente.\n\nIl progetto è nato dall’esigenza condivisa dal Rotary Club Sanremo con la Direzione regionale Musei Liguria\, che gestisce Forte Santa Tecla\, di rilanciare il “percorso turistico-culturale” che unisce i più importanti monumenti della città\, ideato dallo stesso Club nel 2007 e del quale il Forte è una delle tappe. Il Forte per molti anni\, a seguito degli importanti lavori di restauro oggi in parte conclusi grazie ai fondi del Ministero della Cultura\, non è mai stato pienamente coinvolto nell’itinerario e non è segnalato dall’apposita targa.\n\nMercoledì quindi verrà presentata non solo la nuova segnaletica ma anche tutte le iniziative volte a favorire la conoscenza di Forte Santa Tecla anche con il coinvolgimento dei più giovani e degli Studenti dell’Accademia di Belle Arti di Sanremo\, partner dell’iniziativa.\n\nL’ingresso all’evento e gratuito.
URL:https://fortesantatecla.cultura.gov.it/event/presentazione-delliniziativa-scopriamo-santa-tecla-sala-magazzino-di-ponente-2/
LOCATION:Forte Santa Tecla\, Giardini Vitt. Veneto\, 34\,\, Sanremo\, IM\, 18038\, Italia
ATTACH;FMTTYPE=image/jpeg:https://fortesantatecla.cultura.gov.it/wp-content/uploads/2023/03/SCOPRIAMO-1.jpg
END:VEVENT
BEGIN:VEVENT
DTSTART;TZID=Europe/Rome:20230405T170000
DTEND;TZID=Europe/Rome:20230405T190000
DTSTAMP:20260420T153343
CREATED:20230404T094812Z
LAST-MODIFIED:20230404T094830Z
UID:5604-1680714000-1680721200@fortesantatecla.cultura.gov.it
SUMMARY:Conferenza: I cenacoli fiorentini e quello leonardesco
DESCRIPTION:A cura dell’Accademia di Belle Arti di Sanremo.\nRelatori: Giampiero Mele e Sylvie Duvernoy\nLa produzione dei Cenacoli nei refettori dei conventi è stato un fenomeno diffuso nella Firenze del XV secolo anche se l’esemplare più famoso è quello dipinto da Leonardo per il convento di Santa Maria delle Grazie a Milano.\nI numerosi affreschi raffiguranti l’Ultima Cena di Gesù con gli Apostoli dipinti nel Rinascimento sono stati studiati dal punto di vista storico artistico ma mai da quello architettonico. Non sono mai stati analizzati e indagati il rapporto tra arte e scienza della prospettiva\, e il rapporto tra la forma della stanza che decorano e la forma dello spazio che raffigurano.\nLa scienza della prospettiva veniva codificata e messa per iscritto da Piero della Francesca proprio nel periodo in cui Domenico Ghirlandaio dipingeva due ultime cene dei conventi fiorentini di San Marco e di Ognissanti.\nPossiamo quindi considerare i cenacoli dipinti dal Ghirlandaio come opere pionieristiche che segnano una svolta in questo genere artistico\, e cercheremo di capire come e fino a che punto gli artisti rinascimentali fiorentini hanno padroneggiato prima di Leonardo gli effetti di trompe l’oeil che hanno prodotto.
URL:https://fortesantatecla.cultura.gov.it/event/conferenza-i-cenacoli-fiorentini-e-quello-leonardesco/
LOCATION:Forte Santa Tecla\, Giardini Vitt. Veneto\, 34\,\, Sanremo\, IM\, 18038\, Italia
CATEGORIES:Incontro
ATTACH;FMTTYPE=image/jpeg:https://fortesantatecla.cultura.gov.it/wp-content/uploads/2023/04/fst-cenacolo-5aprile2023.jpg
END:VEVENT
BEGIN:VEVENT
DTSTART;TZID=Europe/Rome:20230405T170000
DTEND;TZID=Europe/Rome:20230405T190000
DTSTAMP:20260420T153343
CREATED:20230404T094812Z
LAST-MODIFIED:20230404T094812Z
UID:8442-1680714000-1680721200@fortesantatecla.cultura.gov.it
SUMMARY:Conferenza: I cenacoli fiorentini e quello leonardesco
DESCRIPTION:A cura dell’Accademia di Belle Arti di Sanremo.\nRelatori: Giampiero Mele e Sylvie Duvernoy\nLa produzione dei Cenacoli nei refettori dei conventi è stato un fenomeno diffuso nella Firenze del XV secolo anche se l’esemplare più famoso è quello dipinto da Leonardo per il convento di Santa Maria delle Grazie a Milano.\nI numerosi affreschi raffiguranti l’Ultima Cena di Gesù con gli Apostoli dipinti nel Rinascimento sono stati studiati dal punto di vista storico artistico ma mai da quello architettonico. Non sono mai stati analizzati e indagati il rapporto tra arte e scienza della prospettiva\, e il rapporto tra la forma della stanza che decorano e la forma dello spazio che raffigurano.\nLa scienza della prospettiva veniva codificata e messa per iscritto da Piero della Francesca proprio nel periodo in cui Domenico Ghirlandaio dipingeva due ultime cene dei conventi fiorentini di San Marco e di Ognissanti.\nPossiamo quindi considerare i cenacoli dipinti dal Ghirlandaio come opere pionieristiche che segnano una svolta in questo genere artistico\, e cercheremo di capire come e fino a che punto gli artisti rinascimentali fiorentini hanno padroneggiato prima di Leonardo gli effetti di trompe l’oeil che hanno prodotto.
URL:https://fortesantatecla.cultura.gov.it/event/conferenza-i-cenacoli-fiorentini-e-quello-leonardesco-2/
LOCATION:Forte Santa Tecla\, Giardini Vitt. Veneto\, 34\,\, Sanremo\, IM\, 18038\, Italia
CATEGORIES:Incontro
ATTACH;FMTTYPE=image/jpeg:https://fortesantatecla.cultura.gov.it/wp-content/uploads/2023/04/fst-cenacolo-5aprile2023.jpg
END:VEVENT
END:VCALENDAR